BEGIN:VCALENDAR
VERSION:2.0
PRODID:-//St. John Lutheran Church 6 &amp; 66 - ECPv6.15.20//NONSGML v1.0//EN
CALSCALE:GREGORIAN
METHOD:PUBLISH
X-WR-CALNAME:St. John Lutheran Church 6 &amp; 66
X-ORIGINAL-URL:https://stjohnstryker.org
X-WR-CALDESC:Events for St. John Lutheran Church 6 &amp; 66
REFRESH-INTERVAL;VALUE=DURATION:PT1H
X-Robots-Tag:noindex
X-PUBLISHED-TTL:PT1H
BEGIN:VTIMEZONE
TZID:America/Detroit
BEGIN:DAYLIGHT
TZOFFSETFROM:-0500
TZOFFSETTO:-0400
TZNAME:EDT
DTSTART:20250309T070000
END:DAYLIGHT
BEGIN:STANDARD
TZOFFSETFROM:-0400
TZOFFSETTO:-0500
TZNAME:EST
DTSTART:20251102T060000
END:STANDARD
BEGIN:DAYLIGHT
TZOFFSETFROM:-0500
TZOFFSETTO:-0400
TZNAME:EDT
DTSTART:20260308T070000
END:DAYLIGHT
BEGIN:STANDARD
TZOFFSETFROM:-0400
TZOFFSETTO:-0500
TZNAME:EST
DTSTART:20261101T060000
END:STANDARD
BEGIN:DAYLIGHT
TZOFFSETFROM:-0500
TZOFFSETTO:-0400
TZNAME:EDT
DTSTART:20270314T070000
END:DAYLIGHT
BEGIN:STANDARD
TZOFFSETFROM:-0400
TZOFFSETTO:-0500
TZNAME:EST
DTSTART:20271107T060000
END:STANDARD
END:VTIMEZONE
BEGIN:VEVENT
DTSTART;VALUE=DATE:20260304
DTEND;VALUE=DATE:20260305
DTSTAMP:20260424T123252
CREATED:20260220T190411Z
LAST-MODIFIED:20260220T190411Z
UID:6976-1772582400-1772668799@stjohnstryker.org
SUMMARY:Lent Meal\, Worship and Small Groups
DESCRIPTION:All My Heart is the 2026 Lent Theme. Come and join us as we will explore our theme verse\, Matthew 6:21 using the framework of symbolism from Luther’s Rose Wednesday evenings during Lent. This week the meal will be pizza\, everyone is asked to bring a cold veggie or dessert beginning at 5:30 pm\, Worship in the Family Center at 6:15 pm\, and small group time is from 6:45 pm-7:30 pm.
URL:https://stjohnstryker.org/event/lent-meal-worship-and-small-groups-2/
LOCATION:St. John Lutheran Church\, T-079\, OH-66\, Stryker\, OH\, 43557\, United States
ATTACH;FMTTYPE=image/jpeg:https://stjohnstryker.org/wp-content/uploads/2026/02/heart_26164bc.jpg
ORGANIZER;CN="St. John Lutheran Church":MAILTO:stjohn6and66@bright.net
END:VEVENT
BEGIN:VEVENT
DTSTART;TZID=America/Detroit:20260304T090000
DTEND;TZID=America/Detroit:20260304T150000
DTSTAMP:20260424T123252
CREATED:20260220T185409Z
LAST-MODIFIED:20260220T185409Z
UID:6970-1772614800-1772636400@stjohnstryker.org
SUMMARY:Quilting
DESCRIPTION:Join the quilting group each Wednesday and bring a sack lunch.
URL:https://stjohnstryker.org/event/quilting-32/
LOCATION:St. John Lutheran Church\, T-079\, OH-66\, Stryker\, OH\, 43557\, United States
ATTACH;FMTTYPE=image/jpeg:https://stjohnstryker.org/wp-content/uploads/2026/02/sewing2.jpg
ORGANIZER;CN="St. John Lutheran Church":MAILTO:stjohn6and66@bright.net
END:VEVENT
BEGIN:VEVENT
DTSTART;TZID=America/Detroit:20260304T130000
DTEND;TZID=America/Detroit:20260304T140000
DTSTAMP:20260424T123252
CREATED:20260220T185603Z
LAST-MODIFIED:20260220T185603Z
UID:6973-1772629200-1772632800@stjohnstryker.org
SUMMARY:Ladies Aid
DESCRIPTION:The Ladies Aid will have their meeting in the quilting room at 1:00 pm.
URL:https://stjohnstryker.org/event/ladies-aid-6/
LOCATION:St. John Lutheran Church\, T-079\, OH-66\, Stryker\, OH\, 43557\, United States
ATTACH;FMTTYPE=image/jpeg:https://stjohnstryker.org/wp-content/uploads/2026/02/sprig_26475c.jpg
ORGANIZER;CN="St. John Lutheran Church":MAILTO:stjohn6and66@bright.net
END:VEVENT
END:VCALENDAR