BEGIN:VCALENDAR
VERSION:2.0
PRODID:-//St. John Lutheran Church 6 &amp; 66 - ECPv6.15.20//NONSGML v1.0//EN
CALSCALE:GREGORIAN
METHOD:PUBLISH
X-WR-CALNAME:St. John Lutheran Church 6 &amp; 66
X-ORIGINAL-URL:https://stjohnstryker.org
X-WR-CALDESC:Events for St. John Lutheran Church 6 &amp; 66
REFRESH-INTERVAL;VALUE=DURATION:PT1H
X-Robots-Tag:noindex
X-PUBLISHED-TTL:PT1H
BEGIN:VTIMEZONE
TZID:America/Detroit
BEGIN:DAYLIGHT
TZOFFSETFROM:-0500
TZOFFSETTO:-0400
TZNAME:EDT
DTSTART:20250309T070000
END:DAYLIGHT
BEGIN:STANDARD
TZOFFSETFROM:-0400
TZOFFSETTO:-0500
TZNAME:EST
DTSTART:20251102T060000
END:STANDARD
BEGIN:DAYLIGHT
TZOFFSETFROM:-0500
TZOFFSETTO:-0400
TZNAME:EDT
DTSTART:20260308T070000
END:DAYLIGHT
BEGIN:STANDARD
TZOFFSETFROM:-0400
TZOFFSETTO:-0500
TZNAME:EST
DTSTART:20261101T060000
END:STANDARD
BEGIN:DAYLIGHT
TZOFFSETFROM:-0500
TZOFFSETTO:-0400
TZNAME:EDT
DTSTART:20270314T070000
END:DAYLIGHT
BEGIN:STANDARD
TZOFFSETFROM:-0400
TZOFFSETTO:-0500
TZNAME:EST
DTSTART:20271107T060000
END:STANDARD
END:VTIMEZONE
BEGIN:VEVENT
DTSTART;VALUE=DATE:20260324
DTEND;VALUE=DATE:20260325
DTSTAMP:20260424T123303
CREATED:20260324T180659Z
LAST-MODIFIED:20260324T180659Z
UID:7081-1774310400-1774396799@stjohnstryker.org
SUMMARY:Easter Sunday
DESCRIPTION:Join us Easter Sunday for either our Sunrise service at 7:00 am or the Easter Eucharist service at 10:30 am. There will be an Easter breakfast at 8:00 am and the youth will have an Egg Hunt and Sunday school beginning at 9:15 am. He is Risen!
URL:https://stjohnstryker.org/event/easter-sunday/
LOCATION:St. John Lutheran Church\, T-079\, OH-66\, Stryker\, OH\, 43557\, United States
ATTACH;FMTTYPE=image/png:https://stjohnstryker.org/wp-content/uploads/2026/03/tomb_31013ac.png
ORGANIZER;CN="St. John Lutheran Church":MAILTO:stjohn6and66@bright.net
END:VEVENT
END:VCALENDAR