BEGIN:VCALENDAR
VERSION:2.0
PRODID:-//St. John Lutheran Church 6 &amp; 66 - ECPv6.15.20//NONSGML v1.0//EN
CALSCALE:GREGORIAN
METHOD:PUBLISH
X-ORIGINAL-URL:https://stjohnstryker.org
X-WR-CALDESC:Events for St. John Lutheran Church 6 &amp; 66
REFRESH-INTERVAL;VALUE=DURATION:PT1H
X-Robots-Tag:noindex
X-PUBLISHED-TTL:PT1H
BEGIN:VTIMEZONE
TZID:America/Detroit
BEGIN:DAYLIGHT
TZOFFSETFROM:-0500
TZOFFSETTO:-0400
TZNAME:EDT
DTSTART:20250309T070000
END:DAYLIGHT
BEGIN:STANDARD
TZOFFSETFROM:-0400
TZOFFSETTO:-0500
TZNAME:EST
DTSTART:20251102T060000
END:STANDARD
BEGIN:DAYLIGHT
TZOFFSETFROM:-0500
TZOFFSETTO:-0400
TZNAME:EDT
DTSTART:20260308T070000
END:DAYLIGHT
BEGIN:STANDARD
TZOFFSETFROM:-0400
TZOFFSETTO:-0500
TZNAME:EST
DTSTART:20261101T060000
END:STANDARD
BEGIN:DAYLIGHT
TZOFFSETFROM:-0500
TZOFFSETTO:-0400
TZNAME:EDT
DTSTART:20270314T070000
END:DAYLIGHT
BEGIN:STANDARD
TZOFFSETFROM:-0400
TZOFFSETTO:-0500
TZNAME:EST
DTSTART:20271107T060000
END:STANDARD
END:VTIMEZONE
BEGIN:VEVENT
DTSTART;TZID=America/Detroit:20260401T090000
DTEND;TZID=America/Detroit:20260401T150000
DTSTAMP:20260424T112416
CREATED:20260324T150149Z
LAST-MODIFIED:20260324T150149Z
UID:7022-1775034000-1775055600@stjohnstryker.org
SUMMARY:Quilting
DESCRIPTION:Join the quilting group each Wednesday and bring a sack lunch
URL:https://stjohnstryker.org/event/quilting-36/
LOCATION:St. John Lutheran Church\, T-079\, OH-66\, Stryker\, OH\, 43557\, United States
ATTACH;FMTTYPE=image/jpeg:https://stjohnstryker.org/wp-content/uploads/2026/02/sewing2.jpg
ORGANIZER;CN="St. John Lutheran Church":MAILTO:stjohn6and66@bright.net
END:VEVENT
BEGIN:VEVENT
DTSTART;TZID=America/Detroit:20260401T130000
DTEND;TZID=America/Detroit:20260401T140000
DTSTAMP:20260424T112416
CREATED:20260324T151352Z
LAST-MODIFIED:20260324T151352Z
UID:7024-1775048400-1775052000@stjohnstryker.org
SUMMARY:Ladies Aid
DESCRIPTION:The Ladies Aid will have their monthly meeting in the quilting room at 1:00 pm.
URL:https://stjohnstryker.org/event/ladies-aid-7/
LOCATION:St. John Lutheran Church\, T-079\, OH-66\, Stryker\, OH\, 43557\, United States
ATTACH;FMTTYPE=image/png:https://stjohnstryker.org/wp-content/uploads/2026/03/sun_26489c1.png
ORGANIZER;CN="St. John Lutheran Church":MAILTO:stjohn6and66@bright.net
END:VEVENT
END:VCALENDAR