BEGIN:VCALENDAR
VERSION:2.0
PRODID:-//St. John Lutheran Church 6 &amp; 66 - ECPv6.15.20//NONSGML v1.0//EN
CALSCALE:GREGORIAN
METHOD:PUBLISH
X-WR-CALNAME:St. John Lutheran Church 6 &amp; 66
X-ORIGINAL-URL:https://stjohnstryker.org
X-WR-CALDESC:Events for St. John Lutheran Church 6 &amp; 66
REFRESH-INTERVAL;VALUE=DURATION:PT1H
X-Robots-Tag:noindex
X-PUBLISHED-TTL:PT1H
BEGIN:VTIMEZONE
TZID:America/Detroit
BEGIN:DAYLIGHT
TZOFFSETFROM:-0500
TZOFFSETTO:-0400
TZNAME:EDT
DTSTART:20250309T070000
END:DAYLIGHT
BEGIN:STANDARD
TZOFFSETFROM:-0400
TZOFFSETTO:-0500
TZNAME:EST
DTSTART:20251102T060000
END:STANDARD
BEGIN:DAYLIGHT
TZOFFSETFROM:-0500
TZOFFSETTO:-0400
TZNAME:EDT
DTSTART:20260308T070000
END:DAYLIGHT
BEGIN:STANDARD
TZOFFSETFROM:-0400
TZOFFSETTO:-0500
TZNAME:EST
DTSTART:20261101T060000
END:STANDARD
BEGIN:DAYLIGHT
TZOFFSETFROM:-0500
TZOFFSETTO:-0400
TZNAME:EDT
DTSTART:20270314T070000
END:DAYLIGHT
BEGIN:STANDARD
TZOFFSETFROM:-0400
TZOFFSETTO:-0500
TZNAME:EST
DTSTART:20271107T060000
END:STANDARD
END:VTIMEZONE
BEGIN:VEVENT
DTSTART;TZID=America/Detroit:20260429T090000
DTEND;TZID=America/Detroit:20260429T150000
DTSTAMP:20260424T111712
CREATED:20260324T151902Z
LAST-MODIFIED:20260324T151902Z
UID:7033-1777453200-1777474800@stjohnstryker.org
SUMMARY:Quilting
DESCRIPTION:Join the quilting group each Wednesday and bring a sack lunch.
URL:https://stjohnstryker.org/event/quilting-40/
LOCATION:St. John Lutheran Church\, T-079\, OH-66\, Stryker\, OH\, 43557\, United States
ATTACH;FMTTYPE=image/jpeg:https://stjohnstryker.org/wp-content/uploads/2026/02/sewing2.jpg
ORGANIZER;CN="St. John Lutheran Church":MAILTO:stjohn6and66@bright.net
END:VEVENT
BEGIN:VEVENT
DTSTART;TZID=America/Detroit:20260429T180000
DTEND;TZID=America/Detroit:20260429T190000
DTSTAMP:20260424T111712
CREATED:20260324T154406Z
LAST-MODIFIED:20260324T154406Z
UID:7050-1777485600-1777489200@stjohnstryker.org
SUMMARY:Soul Sisters
DESCRIPTION:Meet with other women as they grow in their relationships with God and each other.
URL:https://stjohnstryker.org/event/soul-sisters-7/
LOCATION:St. John Lutheran Church\, T-079\, OH-66\, Stryker\, OH\, 43557\, United States
ATTACH;FMTTYPE=image/jpeg:https://stjohnstryker.org/wp-content/uploads/2026/01/hands_25849ac1-1.jpg
ORGANIZER;CN="St. John Lutheran Church":MAILTO:stjohn6and66@bright.net
END:VEVENT
BEGIN:VEVENT
DTSTART;TZID=America/Detroit:20260429T180000
DTEND;TZID=America/Detroit:20260429T193000
DTSTAMP:20260424T111712
CREATED:20260324T153532Z
LAST-MODIFIED:20260324T153532Z
UID:7042-1777485600-1777491000@stjohnstryker.org
SUMMARY:JAM & LYF
DESCRIPTION:Youth classes for 3rd-12th grades to grow in their relationships with JESUS.
URL:https://stjohnstryker.org/event/jam-lyf-11/
LOCATION:St. John Lutheran Church\, T-079\, OH-66\, Stryker\, OH\, 43557\, United States
ATTACH;FMTTYPE=image/jpeg:https://stjohnstryker.org/wp-content/uploads/2026/01/youth_30855c.jpg
ORGANIZER;CN="St. John Lutheran Church":MAILTO:stjohn6and66@bright.net
END:VEVENT
END:VCALENDAR