BEGIN:VCALENDAR
VERSION:2.0
PRODID:-//St. John Lutheran Church 6 &amp; 66 - ECPv6.15.20//NONSGML v1.0//EN
CALSCALE:GREGORIAN
METHOD:PUBLISH
X-ORIGINAL-URL:https://stjohnstryker.org
X-WR-CALDESC:Events for St. John Lutheran Church 6 &amp; 66
REFRESH-INTERVAL;VALUE=DURATION:PT1H
X-Robots-Tag:noindex
X-PUBLISHED-TTL:PT1H
BEGIN:VTIMEZONE
TZID:America/Detroit
BEGIN:DAYLIGHT
TZOFFSETFROM:-0500
TZOFFSETTO:-0400
TZNAME:EDT
DTSTART:20250309T070000
END:DAYLIGHT
BEGIN:STANDARD
TZOFFSETFROM:-0400
TZOFFSETTO:-0500
TZNAME:EST
DTSTART:20251102T060000
END:STANDARD
BEGIN:DAYLIGHT
TZOFFSETFROM:-0500
TZOFFSETTO:-0400
TZNAME:EDT
DTSTART:20260308T070000
END:DAYLIGHT
BEGIN:STANDARD
TZOFFSETFROM:-0400
TZOFFSETTO:-0500
TZNAME:EST
DTSTART:20261101T060000
END:STANDARD
BEGIN:DAYLIGHT
TZOFFSETFROM:-0500
TZOFFSETTO:-0400
TZNAME:EDT
DTSTART:20270314T070000
END:DAYLIGHT
BEGIN:STANDARD
TZOFFSETFROM:-0400
TZOFFSETTO:-0500
TZNAME:EST
DTSTART:20271107T060000
END:STANDARD
END:VTIMEZONE
BEGIN:VEVENT
DTSTART;TZID=America/Detroit:20260402T190000
DTEND;TZID=America/Detroit:20260402T200000
DTSTAMP:20260424T123735
CREATED:20260324T162200Z
LAST-MODIFIED:20260324T162200Z
UID:7071-1775156400-1775160000@stjohnstryker.org
SUMMARY:Maundy Thursday Worship
DESCRIPTION:Join us for our Maundy Thursday Worship at 7:00 pm.
URL:https://stjohnstryker.org/event/maundy-thursday-worship/
LOCATION:St. John Lutheran Church\, T-079\, OH-66\, Stryker\, OH\, 43557\, United States
ATTACH;FMTTYPE=image/png:https://stjohnstryker.org/wp-content/uploads/2026/03/cup_30930bpc.png
ORGANIZER;CN="St. John Lutheran Church":MAILTO:stjohn6and66@bright.net
END:VEVENT
BEGIN:VEVENT
DTSTART;VALUE=DATE:20260403
DTEND;VALUE=DATE:20260404
DTSTAMP:20260424T123735
CREATED:20260324T163239Z
LAST-MODIFIED:20260324T163239Z
UID:7074-1775174400-1775260799@stjohnstryker.org
SUMMARY:Good Friday Worship
DESCRIPTION:We will have two worship services on Good Friday. All are welcome to the Good Friday Service at 1:00 pm or the Tenabrea Service at 8:00 pm.
URL:https://stjohnstryker.org/event/good-friday-worship/
LOCATION:St. John Lutheran Church\, T-079\, OH-66\, Stryker\, OH\, 43557\, United States
ATTACH;FMTTYPE=image/png:https://stjohnstryker.org/wp-content/uploads/2026/03/crosses_30975apc.png
ORGANIZER;CN="St. John Lutheran Church":MAILTO:stjohn6and66@bright.net
END:VEVENT
BEGIN:VEVENT
DTSTART;VALUE=DATE:20260403
DTEND;VALUE=DATE:20260404
DTSTAMP:20260424T123735
CREATED:20260324T174708Z
LAST-MODIFIED:20260324T174708Z
UID:7077-1775174400-1775260799@stjohnstryker.org
SUMMARY:Stations of the Cross Walk-Through
DESCRIPTION:Families are invited to take part in a Stations of the Cross Walk-Through. This interactive\, family-friendly experience will guide participants through the events of Jesus’ Passion as you move through different stations. The walk-through will be open from 12:00-8:00 pm and take about 15 minutes to complete.
URL:https://stjohnstryker.org/event/stations-of-the-cross-walk-through/
LOCATION:St. John Lutheran Church\, T-079\, OH-66\, Stryker\, OH\, 43557\, United States
ATTACH;FMTTYPE=image/png:https://stjohnstryker.org/wp-content/uploads/2026/03/station-of-the-cross.png
ORGANIZER;CN="St. John Lutheran Church":MAILTO:stjohn6and66@bright.net
END:VEVENT
BEGIN:VEVENT
DTSTART;TZID=America/Detroit:20260406T183000
DTEND;TZID=America/Detroit:20260406T200000
DTSTAMP:20260424T123735
CREATED:20260324T160934Z
LAST-MODIFIED:20260324T160934Z
UID:7063-1775500200-1775505600@stjohnstryker.org
SUMMARY:Pickleball
DESCRIPTION:Come and play Pickleball on Monday evenings in the Family Center! Everything you need will be provided.
URL:https://stjohnstryker.org/event/pickleball-4/
LOCATION:St. John Lutheran Church\, T-079\, OH-66\, Stryker\, OH\, 43557\, United States
ATTACH;FMTTYPE=image/jpeg:https://stjohnstryker.org/wp-content/uploads/2026/02/pickleball_30286.jpg
ORGANIZER;CN="St. John Lutheran Church":MAILTO:stjohn6and66@bright.net
END:VEVENT
BEGIN:VEVENT
DTSTART;TZID=America/Detroit:20260408T090000
DTEND;TZID=America/Detroit:20260408T150000
DTSTAMP:20260424T123735
CREATED:20260324T151559Z
LAST-MODIFIED:20260324T151559Z
UID:7027-1775638800-1775660400@stjohnstryker.org
SUMMARY:Quilting
DESCRIPTION:Join the quilting group each Wednesday and bring a sack lunch.
URL:https://stjohnstryker.org/event/quilting-37/
LOCATION:St. John Lutheran Church\, T-079\, OH-66\, Stryker\, OH\, 43557\, United States
ATTACH;FMTTYPE=image/jpeg:https://stjohnstryker.org/wp-content/uploads/2026/02/sewing2.jpg
ORGANIZER;CN="St. John Lutheran Church":MAILTO:stjohn6and66@bright.net
END:VEVENT
BEGIN:VEVENT
DTSTART;TZID=America/Detroit:20260408T180000
DTEND;TZID=America/Detroit:20260408T190000
DTSTAMP:20260424T123735
CREATED:20260324T154037Z
LAST-MODIFIED:20260324T154037Z
UID:7044-1775671200-1775674800@stjohnstryker.org
SUMMARY:Soul Sisters
DESCRIPTION:Meet with other women as they grow in their relationships with God and each other.
URL:https://stjohnstryker.org/event/soul-sisters-4/
LOCATION:St. John Lutheran Church\, T-079\, OH-66\, Stryker\, OH\, 43557\, United States
ATTACH;FMTTYPE=image/jpeg:https://stjohnstryker.org/wp-content/uploads/2026/01/hands_25849ac1.jpg
ORGANIZER;CN="St. John Lutheran Church":MAILTO:stjohn6and66@bright.net
END:VEVENT
BEGIN:VEVENT
DTSTART;TZID=America/Detroit:20260408T180000
DTEND;TZID=America/Detroit:20260408T193000
DTSTAMP:20260424T123735
CREATED:20260324T152901Z
LAST-MODIFIED:20260324T152901Z
UID:7035-1775671200-1775676600@stjohnstryker.org
SUMMARY:JAM/LYF/Kingdom Kids
DESCRIPTION:Youth classes for 1st-12th grades to grow their relationships with JESUS.
URL:https://stjohnstryker.org/event/jam-lyf-kingdom-kids-3/
LOCATION:St. John Lutheran Church\, T-079\, OH-66\, Stryker\, OH\, 43557\, United States
ATTACH;FMTTYPE=image/png:https://stjohnstryker.org/wp-content/uploads/2026/03/youth_30857c.png
ORGANIZER;CN="St. John Lutheran Church":MAILTO:stjohn6and66@bright.net
END:VEVENT
BEGIN:VEVENT
DTSTART;VALUE=DATE:20260412
DTEND;VALUE=DATE:20260413
DTSTAMP:20260424T123735
CREATED:20260324T155058Z
LAST-MODIFIED:20260324T155058Z
UID:7052-1775952000-1776038399@stjohnstryker.org
SUMMARY:Sunday Worship and Sunday School
DESCRIPTION:Join us for worship at 8:00 am or 10:30 am Sunday mornings. There is Sunday school classes for 3 year olds through adults that meet from 9:15 am – 10 :15 am. Everyone is welcome!
URL:https://stjohnstryker.org/event/sunday-worship-and-sunday-school-21/
LOCATION:St. John Lutheran Church\, T-079\, OH-66\, Stryker\, OH\, 43557\, United States
ATTACH;FMTTYPE=image/png:https://stjohnstryker.org/wp-content/uploads/2026/03/cross_30207apc.png
ORGANIZER;CN="St. John Lutheran Church":MAILTO:stjohn6and66@bright.net
END:VEVENT
BEGIN:VEVENT
DTSTART;TZID=America/Detroit:20260412T091500
DTEND;TZID=America/Detroit:20260412T101500
DTSTAMP:20260424T123735
CREATED:20260324T160520Z
LAST-MODIFIED:20260324T160520Z
UID:7059-1775985300-1775988900@stjohnstryker.org
SUMMARY:Faith Legacy Towel and Basin
DESCRIPTION:Parents of first graders will meet in the Family Room for a session that centers on living a life of service\, modeled after Jesus.
URL:https://stjohnstryker.org/event/faith-legacy-towel-and-basin/
LOCATION:St. John Lutheran Church\, T-079\, OH-66\, Stryker\, OH\, 43557\, United States
ATTACH;FMTTYPE=image/jpeg:https://stjohnstryker.org/wp-content/uploads/2026/02/faith-legacy.jpg
ORGANIZER;CN="St. John Lutheran Church":MAILTO:stjohn6and66@bright.net
END:VEVENT
BEGIN:VEVENT
DTSTART;TZID=America/Detroit:20260413T183000
DTEND;TZID=America/Detroit:20260413T200000
DTSTAMP:20260424T123735
CREATED:20260324T161049Z
LAST-MODIFIED:20260324T161049Z
UID:7065-1776105000-1776110400@stjohnstryker.org
SUMMARY:Pickleball
DESCRIPTION:Come and play Pickleball on Monday evenings in the Family Center! Everything you need will be provided.
URL:https://stjohnstryker.org/event/pickleball-5/
LOCATION:St. John Lutheran Church\, T-079\, OH-66\, Stryker\, OH\, 43557\, United States
ATTACH;FMTTYPE=image/jpeg:https://stjohnstryker.org/wp-content/uploads/2026/02/pickleball_30286.jpg
ORGANIZER;CN="St. John Lutheran Church":MAILTO:stjohn6and66@bright.net
END:VEVENT
BEGIN:VEVENT
DTSTART;TZID=America/Detroit:20260415T090000
DTEND;TZID=America/Detroit:20260415T150000
DTSTAMP:20260424T123735
CREATED:20260324T151703Z
LAST-MODIFIED:20260324T151703Z
UID:7029-1776243600-1776265200@stjohnstryker.org
SUMMARY:Quilting
DESCRIPTION:Join the quilting group each Wednesday and bring a sack lunch.
URL:https://stjohnstryker.org/event/quilting-38/
LOCATION:St. John Lutheran Church\, T-079\, OH-66\, Stryker\, OH\, 43557\, United States
ATTACH;FMTTYPE=image/jpeg:https://stjohnstryker.org/wp-content/uploads/2026/02/sewing2.jpg
ORGANIZER;CN="St. John Lutheran Church":MAILTO:stjohn6and66@bright.net
END:VEVENT
BEGIN:VEVENT
DTSTART;TZID=America/Detroit:20260415T180000
DTEND;TZID=America/Detroit:20260415T193000
DTSTAMP:20260424T123736
CREATED:20260324T153232Z
LAST-MODIFIED:20260324T153232Z
UID:7038-1776276000-1776281400@stjohnstryker.org
SUMMARY:JAM & LYF
DESCRIPTION:Youth classes for 3rd-12th grades to grow in their relationships with JESUS.
URL:https://stjohnstryker.org/event/jam-lyf-9/
LOCATION:St. John Lutheran Church\, T-079\, OH-66\, Stryker\, OH\, 43557\, United States
ATTACH;FMTTYPE=image/jpeg:https://stjohnstryker.org/wp-content/uploads/2026/01/youth_30855c.jpg
ORGANIZER;CN="St. John Lutheran Church":MAILTO:stjohn6and66@bright.net
END:VEVENT
BEGIN:VEVENT
DTSTART;TZID=America/Detroit:20260415T180000
DTEND;TZID=America/Detroit:20260415T193000
DTSTAMP:20260424T123736
CREATED:20260324T154151Z
LAST-MODIFIED:20260324T154151Z
UID:7046-1776276000-1776281400@stjohnstryker.org
SUMMARY:Soul Sisters
DESCRIPTION:Meet with other women as they grow in their relationships with God and each other.
URL:https://stjohnstryker.org/event/soul-sisters-5/
LOCATION:St. John Lutheran Church\, T-079\, OH-66\, Stryker\, OH\, 43557\, United States
ATTACH;FMTTYPE=image/jpeg:https://stjohnstryker.org/wp-content/uploads/2026/01/hands_25849ac1-1.jpg
ORGANIZER;CN="St. John Lutheran Church":MAILTO:stjohn6and66@bright.net
END:VEVENT
BEGIN:VEVENT
DTSTART;VALUE=DATE:20260419
DTEND;VALUE=DATE:20260420
DTSTAMP:20260424T123736
CREATED:20260324T155244Z
LAST-MODIFIED:20260324T155244Z
UID:7055-1776556800-1776643199@stjohnstryker.org
SUMMARY:Sunday Worship and Sunday School
DESCRIPTION:Join us for worship at 8:00 am or 10:30 am Sunday mornings. There is Sunday school classes for 3 year olds through adults that meet from 9:15 am – 10 :15 am. Everyone is Welcome!
URL:https://stjohnstryker.org/event/sunday-worship-and-sunday-school-22/
LOCATION:St. John Lutheran Church\, T-079\, OH-66\, Stryker\, OH\, 43557\, United States
ATTACH;FMTTYPE=image/png:https://stjohnstryker.org/wp-content/uploads/2026/03/cross_30207apc.png
ORGANIZER;CN="St. John Lutheran Church":MAILTO:stjohn6and66@bright.net
END:VEVENT
BEGIN:VEVENT
DTSTART;TZID=America/Detroit:20260419T091500
DTEND;TZID=America/Detroit:20260419T101500
DTSTAMP:20260424T123736
CREATED:20260324T160710Z
LAST-MODIFIED:20260324T160710Z
UID:7061-1776590100-1776593700@stjohnstryker.org
SUMMARY:Faith Legacy Towel and Basin
DESCRIPTION:First graders and their families will paint their towel and basin together during the Sunday school hour.
URL:https://stjohnstryker.org/event/faith-legacy-towel-and-basin-2/
LOCATION:St. John Lutheran Church\, T-079\, OH-66\, Stryker\, OH\, 43557\, United States
ATTACH;FMTTYPE=image/jpeg:https://stjohnstryker.org/wp-content/uploads/2026/02/faith-legacy.jpg
ORGANIZER;CN="St. John Lutheran Church":MAILTO:stjohn6and66@bright.net
END:VEVENT
BEGIN:VEVENT
DTSTART;TZID=America/Detroit:20260420T183000
DTEND;TZID=America/Detroit:20260420T200000
DTSTAMP:20260424T123736
CREATED:20260324T161228Z
LAST-MODIFIED:20260324T161228Z
UID:7067-1776709800-1776715200@stjohnstryker.org
SUMMARY:Pickleball
DESCRIPTION:Come and play Pickleball on Monday evenings in the Family Center! Everything you need will be provided.
URL:https://stjohnstryker.org/event/pickleball-6/
LOCATION:St. John Lutheran Church\, T-079\, OH-66\, Stryker\, OH\, 43557\, United States
ATTACH;FMTTYPE=image/jpeg:https://stjohnstryker.org/wp-content/uploads/2026/02/pickleball_30286.jpg
ORGANIZER;CN="St. John Lutheran Church":MAILTO:stjohn6and66@bright.net
END:VEVENT
BEGIN:VEVENT
DTSTART;TZID=America/Detroit:20260422T090000
DTEND;TZID=America/Detroit:20260422T150000
DTSTAMP:20260424T123736
CREATED:20260324T151759Z
LAST-MODIFIED:20260324T151759Z
UID:7031-1776848400-1776870000@stjohnstryker.org
SUMMARY:Quilting
DESCRIPTION:Join the quilting group each Wednesday and bring a sack lunch.
URL:https://stjohnstryker.org/event/quilting-39/
LOCATION:St. John Lutheran Church\, T-079\, OH-66\, Stryker\, OH\, 43557\, United States
ATTACH;FMTTYPE=image/jpeg:https://stjohnstryker.org/wp-content/uploads/2026/02/sewing2.jpg
ORGANIZER;CN="St. John Lutheran Church":MAILTO:stjohn6and66@bright.net
END:VEVENT
BEGIN:VEVENT
DTSTART;TZID=America/Detroit:20260422T180000
DTEND;TZID=America/Detroit:20260422T190000
DTSTAMP:20260424T123736
CREATED:20260324T154257Z
LAST-MODIFIED:20260324T154257Z
UID:7048-1776880800-1776884400@stjohnstryker.org
SUMMARY:Soul Sisters
DESCRIPTION:Meet with other women as they grow in their relationships with God and each other.
URL:https://stjohnstryker.org/event/soul-sisters-6/
LOCATION:St. John Lutheran Church\, T-079\, OH-66\, Stryker\, OH\, 43557\, United States
ATTACH;FMTTYPE=image/jpeg:https://stjohnstryker.org/wp-content/uploads/2026/01/hands_25849ac1-1.jpg
ORGANIZER;CN="St. John Lutheran Church":MAILTO:stjohn6and66@bright.net
END:VEVENT
BEGIN:VEVENT
DTSTART;TZID=America/Detroit:20260422T180000
DTEND;TZID=America/Detroit:20260422T193000
DTSTAMP:20260424T123736
CREATED:20260324T153416Z
LAST-MODIFIED:20260324T153416Z
UID:7040-1776880800-1776886200@stjohnstryker.org
SUMMARY:JAM & LYF
DESCRIPTION:Youth classes for 3rd-12th grades to grow in their relationships with JESUS.
URL:https://stjohnstryker.org/event/jam-lyf-10/
LOCATION:St. John Lutheran Church\, T-079\, OH-66\, Stryker\, OH\, 43557\, United States
ATTACH;FMTTYPE=image/jpeg:https://stjohnstryker.org/wp-content/uploads/2026/01/youth_30855c.jpg
ORGANIZER;CN="St. John Lutheran Church":MAILTO:stjohn6and66@bright.net
END:VEVENT
BEGIN:VEVENT
DTSTART;VALUE=DATE:20260426
DTEND;VALUE=DATE:20260427
DTSTAMP:20260424T123736
CREATED:20260324T155429Z
LAST-MODIFIED:20260324T155429Z
UID:7057-1777161600-1777247999@stjohnstryker.org
SUMMARY:Sunday Worship and Sunday School
DESCRIPTION:Join us for worship at 8:00 am or 10:30 am Sunday mornings. There is Sunday school classes for 3 year olds through adults that meet from 9:15 am-10:15 am. Everyone is welcome!
URL:https://stjohnstryker.org/event/sunday-worship-and-sunday-school-23/
LOCATION:St. John Lutheran Church\, T-079\, OH-66\, Stryker\, OH\, 43557\, United States
ATTACH;FMTTYPE=image/png:https://stjohnstryker.org/wp-content/uploads/2026/03/cross_30207apc.png
ORGANIZER;CN="St. John Lutheran Church":MAILTO:stjohn6and66@bright.net
END:VEVENT
BEGIN:VEVENT
DTSTART;TZID=America/Detroit:20260427T183000
DTEND;TZID=America/Detroit:20260427T200000
DTSTAMP:20260424T123736
CREATED:20260324T161342Z
LAST-MODIFIED:20260324T161342Z
UID:7069-1777314600-1777320000@stjohnstryker.org
SUMMARY:Pickleball
DESCRIPTION:Come and play Pickleball on Monday evenings in the Family Center! Everything you need will be provided.
URL:https://stjohnstryker.org/event/pickleball-7/
LOCATION:St. John Lutheran Church\, T-079\, OH-66\, Stryker\, OH\, 43557\, United States
ATTACH;FMTTYPE=image/jpeg:https://stjohnstryker.org/wp-content/uploads/2026/02/pickleball_30286.jpg
ORGANIZER;CN="St. John Lutheran Church":MAILTO:stjohn6and66@bright.net
END:VEVENT
BEGIN:VEVENT
DTSTART;TZID=America/Detroit:20260429T090000
DTEND;TZID=America/Detroit:20260429T150000
DTSTAMP:20260424T123736
CREATED:20260324T151902Z
LAST-MODIFIED:20260324T151902Z
UID:7033-1777453200-1777474800@stjohnstryker.org
SUMMARY:Quilting
DESCRIPTION:Join the quilting group each Wednesday and bring a sack lunch.
URL:https://stjohnstryker.org/event/quilting-40/
LOCATION:St. John Lutheran Church\, T-079\, OH-66\, Stryker\, OH\, 43557\, United States
ATTACH;FMTTYPE=image/jpeg:https://stjohnstryker.org/wp-content/uploads/2026/02/sewing2.jpg
ORGANIZER;CN="St. John Lutheran Church":MAILTO:stjohn6and66@bright.net
END:VEVENT
BEGIN:VEVENT
DTSTART;TZID=America/Detroit:20260429T180000
DTEND;TZID=America/Detroit:20260429T190000
DTSTAMP:20260424T123736
CREATED:20260324T154406Z
LAST-MODIFIED:20260324T154406Z
UID:7050-1777485600-1777489200@stjohnstryker.org
SUMMARY:Soul Sisters
DESCRIPTION:Meet with other women as they grow in their relationships with God and each other.
URL:https://stjohnstryker.org/event/soul-sisters-7/
LOCATION:St. John Lutheran Church\, T-079\, OH-66\, Stryker\, OH\, 43557\, United States
ATTACH;FMTTYPE=image/jpeg:https://stjohnstryker.org/wp-content/uploads/2026/01/hands_25849ac1-1.jpg
ORGANIZER;CN="St. John Lutheran Church":MAILTO:stjohn6and66@bright.net
END:VEVENT
BEGIN:VEVENT
DTSTART;TZID=America/Detroit:20260429T180000
DTEND;TZID=America/Detroit:20260429T193000
DTSTAMP:20260424T123736
CREATED:20260324T153532Z
LAST-MODIFIED:20260324T153532Z
UID:7042-1777485600-1777491000@stjohnstryker.org
SUMMARY:JAM & LYF
DESCRIPTION:Youth classes for 3rd-12th grades to grow in their relationships with JESUS.
URL:https://stjohnstryker.org/event/jam-lyf-11/
LOCATION:St. John Lutheran Church\, T-079\, OH-66\, Stryker\, OH\, 43557\, United States
ATTACH;FMTTYPE=image/jpeg:https://stjohnstryker.org/wp-content/uploads/2026/01/youth_30855c.jpg
ORGANIZER;CN="St. John Lutheran Church":MAILTO:stjohn6and66@bright.net
END:VEVENT
BEGIN:VEVENT
DTSTART;VALUE=DATE:20260503
DTEND;VALUE=DATE:20260504
DTSTAMP:20260424T123736
CREATED:20260421T132350Z
LAST-MODIFIED:20260421T132350Z
UID:7085-1777766400-1777852799@stjohnstryker.org
SUMMARY:Sunday Worship and Sunday School -
DESCRIPTION:Join us for worship at 8:00 am or 10:30 am Sunday mornings. There is Sunday school classes for 3 year olds through adults that meet from 9:15 am – 10:15 am. Everyone is welcome!
URL:https://stjohnstryker.org/event/sunday-worship-and-sunday-school-24/
LOCATION:St. John Lutheran Church\, T-079\, OH-66\, Stryker\, OH\, 43557\, United States
ATTACH;FMTTYPE=image/jpeg:https://stjohnstryker.org/wp-content/uploads/2026/04/growth_29939apc.jpg
ORGANIZER;CN="St. John Lutheran Church":MAILTO:stjohn6and66@bright.net
END:VEVENT
BEGIN:VEVENT
DTSTART;TZID=America/Detroit:20260506T090000
DTEND;TZID=America/Detroit:20260506T150000
DTSTAMP:20260424T123736
CREATED:20260421T132503Z
LAST-MODIFIED:20260421T132503Z
UID:7088-1778058000-1778079600@stjohnstryker.org
SUMMARY:Quilting
DESCRIPTION:Join the quilting group each Wednesday and bring a sack lunch.
URL:https://stjohnstryker.org/event/quilting-41/
LOCATION:St. John Lutheran Church\, T-079\, OH-66\, Stryker\, OH\, 43557\, United States
ATTACH;FMTTYPE=image/jpeg:https://stjohnstryker.org/wp-content/uploads/2026/02/sewing2.jpg
ORGANIZER;CN="St. John Lutheran Church":MAILTO:stjohn6and66@bright.net
END:VEVENT
BEGIN:VEVENT
DTSTART;TZID=America/Detroit:20260506T180000
DTEND;TZID=America/Detroit:20260506T193000
DTSTAMP:20260424T123736
CREATED:20260421T134200Z
LAST-MODIFIED:20260421T134201Z
UID:7090-1778090400-1778095800@stjohnstryker.org
SUMMARY:8th Grade Faith Legacy
DESCRIPTION:This Faith Legacy session “Confirming Your Faith” will prepare the 8th graders to confirm their faith given in baptism.
URL:https://stjohnstryker.org/event/8th-grade-faith-legacy/
LOCATION:St. John Lutheran Church\, T-079\, OH-66\, Stryker\, OH\, 43557\, United States
ATTACH;FMTTYPE=image/jpeg:https://stjohnstryker.org/wp-content/uploads/2026/02/faith-legacy-1.jpg
ORGANIZER;CN="St. John Lutheran Church":MAILTO:stjohn6and66@bright.net
END:VEVENT
BEGIN:VEVENT
DTSTART;VALUE=DATE:20260510
DTEND;VALUE=DATE:20260511
DTSTAMP:20260424T123736
CREATED:20260421T140205Z
LAST-MODIFIED:20260421T140205Z
UID:7092-1778371200-1778457599@stjohnstryker.org
SUMMARY:Sunday Worship and Sunday School
DESCRIPTION:Join us for worship at 8:00 am or 10:30 am Sunday mornings. There is Sunday school classes for 3 year olds through adults that meet from 9:15 am – 10:15 am. Everyone is Welcome!
URL:https://stjohnstryker.org/event/sunday-worship-and-sunday-school-25/
LOCATION:St. John Lutheran Church\, T-079\, OH-66\, Stryker\, OH\, 43557\, United States
ATTACH;FMTTYPE=image/jpeg:https://stjohnstryker.org/wp-content/uploads/2026/04/family_28369ac.jpg
ORGANIZER;CN="St. John Lutheran Church":MAILTO:stjohn6and66@bright.net
END:VEVENT
BEGIN:VEVENT
DTSTART;TZID=America/Detroit:20260513T090000
DTEND;TZID=America/Detroit:20260513T150000
DTSTAMP:20260424T123736
CREATED:20260421T140324Z
LAST-MODIFIED:20260421T140324Z
UID:7095-1778662800-1778684400@stjohnstryker.org
SUMMARY:Quilting
DESCRIPTION:Join the quilting group each Wednesday and bring a sack lunch.
URL:https://stjohnstryker.org/event/quilting-42/
LOCATION:St. John Lutheran Church\, T-079\, OH-66\, Stryker\, OH\, 43557\, United States
ATTACH;FMTTYPE=image/jpeg:https://stjohnstryker.org/wp-content/uploads/2026/02/sewing2.jpg
ORGANIZER;CN="St. John Lutheran Church":MAILTO:stjohn6and66@bright.net
END:VEVENT
BEGIN:VEVENT
DTSTART;TZID=America/Detroit:20260513T193000
DTEND;TZID=America/Detroit:20260513T203000
DTSTAMP:20260424T123736
CREATED:20260421T141624Z
LAST-MODIFIED:20260421T141624Z
UID:7097-1778700600-1778704200@stjohnstryker.org
SUMMARY:Statement of Faith Service
DESCRIPTION:Join us as our Confirmands share their faith statements and witness their faith in this evening service.
URL:https://stjohnstryker.org/event/statement-of-faith-service/
LOCATION:St. John Lutheran Church\, T-079\, OH-66\, Stryker\, OH\, 43557\, United States
ATTACH;FMTTYPE=image/jpeg:https://stjohnstryker.org/wp-content/uploads/2026/04/dove_24956c.jpg
ORGANIZER;CN="St. John Lutheran Church":MAILTO:stjohn6and66@bright.net
END:VEVENT
END:VCALENDAR