BEGIN:VCALENDAR
VERSION:2.0
PRODID:-//St. John Lutheran Church 6 &amp; 66 - ECPv6.15.20//NONSGML v1.0//EN
CALSCALE:GREGORIAN
METHOD:PUBLISH
X-WR-CALNAME:St. John Lutheran Church 6 &amp; 66
X-ORIGINAL-URL:https://stjohnstryker.org
X-WR-CALDESC:Events for St. John Lutheran Church 6 &amp; 66
REFRESH-INTERVAL;VALUE=DURATION:PT1H
X-Robots-Tag:noindex
X-PUBLISHED-TTL:PT1H
BEGIN:VTIMEZONE
TZID:America/Detroit
BEGIN:DAYLIGHT
TZOFFSETFROM:-0500
TZOFFSETTO:-0400
TZNAME:EDT
DTSTART:20250309T070000
END:DAYLIGHT
BEGIN:STANDARD
TZOFFSETFROM:-0400
TZOFFSETTO:-0500
TZNAME:EST
DTSTART:20251102T060000
END:STANDARD
BEGIN:DAYLIGHT
TZOFFSETFROM:-0500
TZOFFSETTO:-0400
TZNAME:EDT
DTSTART:20260308T070000
END:DAYLIGHT
BEGIN:STANDARD
TZOFFSETFROM:-0400
TZOFFSETTO:-0500
TZNAME:EST
DTSTART:20261101T060000
END:STANDARD
BEGIN:DAYLIGHT
TZOFFSETFROM:-0500
TZOFFSETTO:-0400
TZNAME:EDT
DTSTART:20270314T070000
END:DAYLIGHT
BEGIN:STANDARD
TZOFFSETFROM:-0400
TZOFFSETTO:-0500
TZNAME:EST
DTSTART:20271107T060000
END:STANDARD
END:VTIMEZONE
BEGIN:VEVENT
DTSTART;TZID=America/Detroit:20260513T193000
DTEND;TZID=America/Detroit:20260513T203000
DTSTAMP:20260424T100420
CREATED:20260421T141624Z
LAST-MODIFIED:20260421T141624Z
UID:7097-1778700600-1778704200@stjohnstryker.org
SUMMARY:Statement of Faith Service
DESCRIPTION:Join us as our Confirmands share their faith statements and witness their faith in this evening service.
URL:https://stjohnstryker.org/event/statement-of-faith-service/
LOCATION:St. John Lutheran Church\, T-079\, OH-66\, Stryker\, OH\, 43557\, United States
ATTACH;FMTTYPE=image/jpeg:https://stjohnstryker.org/wp-content/uploads/2026/04/dove_24956c.jpg
ORGANIZER;CN="St. John Lutheran Church":MAILTO:stjohn6and66@bright.net
END:VEVENT
BEGIN:VEVENT
DTSTART;TZID=America/Detroit:20260514T180000
DTEND;TZID=America/Detroit:20260514T193000
DTSTAMP:20260424T100420
CREATED:20260421T142050Z
LAST-MODIFIED:20260421T142050Z
UID:7100-1778781600-1778787000@stjohnstryker.org
SUMMARY:LWML - Hygiene Kits
DESCRIPTION:Come and assemble hygiene kits for the Ohio Grain Train.
URL:https://stjohnstryker.org/event/lwml-hygiene-kits/
LOCATION:St. John Lutheran Church\, T-079\, OH-66\, Stryker\, OH\, 43557\, United States
ATTACH;FMTTYPE=image/jpeg:https://stjohnstryker.org/wp-content/uploads/2026/04/kits_25112c1.jpg
ORGANIZER;CN="St. John Lutheran Church":MAILTO:stjohn6and66@bright.net
END:VEVENT
BEGIN:VEVENT
DTSTART;TZID=America/Detroit:20260517T090000
DTEND;TZID=America/Detroit:20260517T100000
DTSTAMP:20260424T100420
CREATED:20260421T143153Z
LAST-MODIFIED:20260421T143153Z
UID:7103-1779008400-1779012000@stjohnstryker.org
SUMMARY:Confirmation Sunday
DESCRIPTION:Worship with us as the confirmands confirm their faith during our service at 9:00 am. Today begins our summer worship schedule of having only one service that begins at 9:00 am on Sunday mornings.
URL:https://stjohnstryker.org/event/confirmation-sunday/
LOCATION:St. John Lutheran Church\, T-079\, OH-66\, Stryker\, OH\, 43557\, United States
ATTACH;FMTTYPE=image/jpeg:https://stjohnstryker.org/wp-content/uploads/2026/04/doves_16875c3.jpg
ORGANIZER;CN="St. John Lutheran Church":MAILTO:stjohn6and66@bright.net
END:VEVENT
BEGIN:VEVENT
DTSTART;TZID=America/Detroit:20260520T090000
DTEND;TZID=America/Detroit:20260520T150000
DTSTAMP:20260424T100420
CREATED:20260421T143318Z
LAST-MODIFIED:20260421T143318Z
UID:7107-1779267600-1779289200@stjohnstryker.org
SUMMARY:Quilting
DESCRIPTION:Join the quilting group each Wednesday and bring a sack lunch.
URL:https://stjohnstryker.org/event/quilting-43/
LOCATION:St. John Lutheran Church\, T-079\, OH-66\, Stryker\, OH\, 43557\, United States
ATTACH;FMTTYPE=image/jpeg:https://stjohnstryker.org/wp-content/uploads/2026/02/sewing2.jpg
ORGANIZER;CN="St. John Lutheran Church":MAILTO:stjohn6and66@bright.net
END:VEVENT
BEGIN:VEVENT
DTSTART;TZID=America/Detroit:20260521T190000
DTEND;TZID=America/Detroit:20260521T200000
DTSTAMP:20260424T100420
CREATED:20260421T145412Z
LAST-MODIFIED:20260421T145412Z
UID:7109-1779390000-1779393600@stjohnstryker.org
SUMMARY:Thursday Worship
DESCRIPTION:Join us for worship at 7:00 pm on Thursday evenings during the summer.
URL:https://stjohnstryker.org/event/thursday-worship-13/
LOCATION:St. John Lutheran Church\, T-079\, OH-66\, Stryker\, OH\, 43557\, United States
ATTACH;FMTTYPE=image/jpeg:https://stjohnstryker.org/wp-content/uploads/2026/04/summer_20481c.jpg
ORGANIZER;CN="St. John Lutheran Church":MAILTO:stjohn6and66@bright.net
END:VEVENT
BEGIN:VEVENT
DTSTART;TZID=America/Detroit:20260524T090000
DTEND;TZID=America/Detroit:20260524T100000
DTSTAMP:20260424T100420
CREATED:20260421T151844Z
LAST-MODIFIED:20260421T151844Z
UID:7112-1779613200-1779616800@stjohnstryker.org
SUMMARY:Sunday Worship
DESCRIPTION:Join us for worship at 9:00 am as we recognize our 2026 graduates. Everyone is welcome!
URL:https://stjohnstryker.org/event/sunday-worship-17/
LOCATION:St. John Lutheran Church\, T-079\, OH-66\, Stryker\, OH\, 43557\, United States
ATTACH;FMTTYPE=image/jpeg:https://stjohnstryker.org/wp-content/uploads/2026/04/bacc_26435c.jpg
ORGANIZER;CN="St. John Lutheran Church":MAILTO:stjohn6and66@bright.net
END:VEVENT
BEGIN:VEVENT
DTSTART;TZID=America/Detroit:20260524T100500
DTEND;TZID=America/Detroit:20260524T103000
DTSTAMP:20260424T100420
CREATED:20260421T153645Z
LAST-MODIFIED:20260421T153645Z
UID:7115-1779617100-1779618600@stjohnstryker.org
SUMMARY:Memorial Day Ceremony
DESCRIPTION:We will have a short Memorial Day ceremony at the cemetery following our worship service at approximately 10:05 am.
URL:https://stjohnstryker.org/event/memorial-day-ceremony/
LOCATION:St. John Lutheran Church\, T-079\, OH-66\, Stryker\, OH\, 43557\, United States
ATTACH;FMTTYPE=image/jpeg:https://stjohnstryker.org/wp-content/uploads/2026/04/flags_29865ac.jpg
ORGANIZER;CN="St. John Lutheran Church":MAILTO:stjohn6and66@bright.net
END:VEVENT
BEGIN:VEVENT
DTSTART;TZID=America/Detroit:20260527T090000
DTEND;TZID=America/Detroit:20260527T150000
DTSTAMP:20260424T100420
CREATED:20260421T153811Z
LAST-MODIFIED:20260421T153811Z
UID:7118-1779872400-1779894000@stjohnstryker.org
SUMMARY:Quilting
DESCRIPTION:Join the quilting group each Wednesday and bring a sack lunch.
URL:https://stjohnstryker.org/event/quilting-44/
LOCATION:St. John Lutheran Church\, T-079\, OH-66\, Stryker\, OH\, 43557\, United States
ATTACH;FMTTYPE=image/jpeg:https://stjohnstryker.org/wp-content/uploads/2026/02/sewing2.jpg
ORGANIZER;CN="St. John Lutheran Church":MAILTO:stjohn6and66@bright.net
END:VEVENT
BEGIN:VEVENT
DTSTART;TZID=America/Detroit:20260528T190000
DTEND;TZID=America/Detroit:20260528T200000
DTSTAMP:20260424T100420
CREATED:20260421T154429Z
LAST-MODIFIED:20260421T154429Z
UID:7120-1779994800-1779998400@stjohnstryker.org
SUMMARY:Thursday Worship
DESCRIPTION:Join us for worship at 7:00 pm on Thursday evenings during the summer.
URL:https://stjohnstryker.org/event/thursday-worship-14/
LOCATION:St. John Lutheran Church\, T-079\, OH-66\, Stryker\, OH\, 43557\, United States
ATTACH;FMTTYPE=image/jpeg:https://stjohnstryker.org/wp-content/uploads/2026/04/summer_20481c.jpg
ORGANIZER;CN="St. John Lutheran Church":MAILTO:stjohn6and66@bright.net
END:VEVENT
BEGIN:VEVENT
DTSTART;TZID=America/Detroit:20260531T090000
DTEND;TZID=America/Detroit:20260531T100000
DTSTAMP:20260424T100420
CREATED:20260421T163834Z
LAST-MODIFIED:20260421T163834Z
UID:7122-1780218000-1780221600@stjohnstryker.org
SUMMARY:Sunday Worship
DESCRIPTION:Join us for worship at 9:00 am Sunday mornings\, as we have one combined Sunday service in the summer. We will welcome our New Members with a reception after worship today.
URL:https://stjohnstryker.org/event/sunday-worship-18/
LOCATION:St. John Lutheran Church\, T-079\, OH-66\, Stryker\, OH\, 43557\, United States
ATTACH;FMTTYPE=image/jpeg:https://stjohnstryker.org/wp-content/uploads/2026/04/painting_29890apc.jpg
ORGANIZER;CN="St. John Lutheran Church":MAILTO:stjohn6and66@bright.net
END:VEVENT
END:VCALENDAR