BEGIN:VCALENDAR
VERSION:2.0
PRODID:-//St. John Lutheran Church 6 &amp; 66 - ECPv6.15.20//NONSGML v1.0//EN
CALSCALE:GREGORIAN
METHOD:PUBLISH
X-WR-CALNAME:St. John Lutheran Church 6 &amp; 66
X-ORIGINAL-URL:https://stjohnstryker.org
X-WR-CALDESC:Events for St. John Lutheran Church 6 &amp; 66
REFRESH-INTERVAL;VALUE=DURATION:PT1H
X-Robots-Tag:noindex
X-PUBLISHED-TTL:PT1H
BEGIN:VTIMEZONE
TZID:America/Detroit
BEGIN:DAYLIGHT
TZOFFSETFROM:-0500
TZOFFSETTO:-0400
TZNAME:EDT
DTSTART:20240310T070000
END:DAYLIGHT
BEGIN:STANDARD
TZOFFSETFROM:-0400
TZOFFSETTO:-0500
TZNAME:EST
DTSTART:20241103T060000
END:STANDARD
BEGIN:DAYLIGHT
TZOFFSETFROM:-0500
TZOFFSETTO:-0400
TZNAME:EDT
DTSTART:20250309T070000
END:DAYLIGHT
BEGIN:STANDARD
TZOFFSETFROM:-0400
TZOFFSETTO:-0500
TZNAME:EST
DTSTART:20251102T060000
END:STANDARD
BEGIN:DAYLIGHT
TZOFFSETFROM:-0500
TZOFFSETTO:-0400
TZNAME:EDT
DTSTART:20260308T070000
END:DAYLIGHT
BEGIN:STANDARD
TZOFFSETFROM:-0400
TZOFFSETTO:-0500
TZNAME:EST
DTSTART:20261101T060000
END:STANDARD
END:VTIMEZONE
BEGIN:VEVENT
DTSTART;VALUE=DATE:20251026
DTEND;VALUE=DATE:20251027
DTSTAMP:20260424T205416
CREATED:20250923T163817Z
LAST-MODIFIED:20250923T163817Z
UID:6720-1761436800-1761523199@stjohnstryker.org
SUMMARY:Sunday Worship and Sunday school
DESCRIPTION:Join us for worship at 8:00 am or 10:30 am Sunday mornings. There is Sunday school classes for 3 year olds through adults that meet from 9:15 am – 10:15 am. Everyone is welcome!
URL:https://stjohnstryker.org/event/sunday-worship-and-sunday-school-5/
LOCATION:St. John Lutheran Church\, T-079\, OH-66\, Stryker\, OH\, 43557\, United States
ATTACH;FMTTYPE=image/jpeg:https://stjohnstryker.org/wp-content/uploads/2025/09/leaves_29071apc1-3.jpg
ORGANIZER;CN="St. John Lutheran Church":MAILTO:stjohn6and66@bright.net
END:VEVENT
BEGIN:VEVENT
DTSTART;TZID=America/Detroit:20251022T180000
DTEND;TZID=America/Detroit:20251022T193000
DTSTAMP:20260424T205416
CREATED:20250923T170042Z
LAST-MODIFIED:20250923T174043Z
UID:6732-1761156000-1761161400@stjohnstryker.org
SUMMARY:JAM & LYF
DESCRIPTION:Youth classes for 3rd – 12th grades to grow their relationships with JESUS.
URL:https://stjohnstryker.org/event/jam-lyf-3/
LOCATION:St. John Lutheran Church\, T-079\, OH-66\, Stryker\, OH\, 43557\, United States
ATTACH;FMTTYPE=image/jpeg:https://stjohnstryker.org/wp-content/uploads/2025/09/wood_26806ac1-3.jpg
ORGANIZER;CN="St. John Lutheran Church":MAILTO:stjohn6and66@bright.net
END:VEVENT
BEGIN:VEVENT
DTSTART;TZID=America/Detroit:20251022T090000
DTEND;TZID=America/Detroit:20251022T160000
DTSTAMP:20260424T205416
CREATED:20250923T164354Z
LAST-MODIFIED:20250923T164354Z
UID:6726-1761123600-1761148800@stjohnstryker.org
SUMMARY:Sewing
DESCRIPTION:Join the quilting group each Wednesday and bring a sack lunch.
URL:https://stjohnstryker.org/event/sewing-2/
LOCATION:St. John Lutheran Church\, T-079\, OH-66\, Stryker\, OH\, 43557\, United States
ATTACH;FMTTYPE=image/jpeg:https://stjohnstryker.org/wp-content/uploads/2025/09/sewing2-3.jpg
ORGANIZER;CN="St. John Lutheran Church":MAILTO:stjohn6and66@bright.net
END:VEVENT
BEGIN:VEVENT
DTSTART;TZID=America/Detroit:20251020T190000
DTEND;TZID=America/Detroit:20251020T203000
DTSTAMP:20260424T205416
CREATED:20250923T161910Z
LAST-MODIFIED:20250923T161910Z
UID:6710-1760986800-1760992200@stjohnstryker.org
SUMMARY:Delight Your Marriage
DESCRIPTION:A 12 week event to help strengthen and deepen your marriage.
URL:https://stjohnstryker.org/event/delight-your-marriage-7/
LOCATION:St. John Lutheran Church\, T-079\, OH-66\, Stryker\, OH\, 43557\, United States
ATTACH;FMTTYPE=image/jpeg:https://stjohnstryker.org/wp-content/uploads/2025/09/dym-2.jpg
ORGANIZER;CN="St. John Lutheran Church":MAILTO:stjohn6and66@bright.net
END:VEVENT
BEGIN:VEVENT
DTSTART;TZID=America/Detroit:20251019T133000
DTEND;TZID=America/Detroit:20251019T163000
DTSTAMP:20260424T205416
CREATED:20250923T174713Z
LAST-MODIFIED:20250923T174713Z
UID:6747-1760880600-1760891400@stjohnstryker.org
SUMMARY:Jr LYF Outing
DESCRIPTION:A Jr LYF (5th-8th graders) outing to Leader’s Farm.
URL:https://stjohnstryker.org/event/jr-lyf-outing/
LOCATION:St. John Lutheran Church\, T-079\, OH-66\, Stryker\, OH\, 43557\, United States
ATTACH;FMTTYPE=image/jpeg:https://stjohnstryker.org/wp-content/uploads/2025/09/cornmaze_4489c.jpg
ORGANIZER;CN="St. John Lutheran Church":MAILTO:stjohn6and66@bright.net
END:VEVENT
BEGIN:VEVENT
DTSTART;VALUE=DATE:20251019
DTEND;VALUE=DATE:20251020
DTSTAMP:20260424T205416
CREATED:20250923T163606Z
LAST-MODIFIED:20250923T163606Z
UID:6717-1760832000-1760918399@stjohnstryker.org
SUMMARY:Sunday Worship and Sunday school
DESCRIPTION:Join us for worship at 8:00 am or 10:30 am Sunday mornings. There is Sunday school classes for 3 year olds through adults that meet from 9:15 am – 10:15 am. Everyone is welcome!
URL:https://stjohnstryker.org/event/sunday-worship-and-sunday-school-4/
LOCATION:St. John Lutheran Church\, T-079\, OH-66\, Stryker\, OH\, 43557\, United States
ATTACH;FMTTYPE=image/jpeg:https://stjohnstryker.org/wp-content/uploads/2025/09/leaves_29071apc1-2.jpg
ORGANIZER;CN="St. John Lutheran Church":MAILTO:stjohn6and66@bright.net
END:VEVENT
BEGIN:VEVENT
DTSTART;TZID=America/Detroit:20251018T090000
DTEND;TZID=America/Detroit:20251018T150000
DTSTAMP:20260424T205416
CREATED:20250923T173621Z
LAST-MODIFIED:20250923T173621Z
UID:6741-1760778000-1760799600@stjohnstryker.org
SUMMARY:Country Corner Crafts
DESCRIPTION:Come shop for some handmade items and enjoy lunch for a free will donation.
URL:https://stjohnstryker.org/event/country-corner-crafts/
LOCATION:St. John Lutheran Church\, T-079\, OH-66\, Stryker\, OH\, 43557\, United States
ATTACH;FMTTYPE=image/jpeg:https://stjohnstryker.org/wp-content/uploads/2025/09/st.-johns-country-corner-craft-show-2025.jpg
ORGANIZER;CN="St. John Lutheran Church":MAILTO:stjohn6and66@bright.net
END:VEVENT
BEGIN:VEVENT
DTSTART;TZID=America/Detroit:20251015T180000
DTEND;TZID=America/Detroit:20251015T193000
DTSTAMP:20260424T205416
CREATED:20250923T171542Z
LAST-MODIFIED:20250923T171542Z
UID:6735-1760551200-1760556600@stjohnstryker.org
SUMMARY:JAM & LYF
DESCRIPTION:Youth classes for 3rd – 12th grades to grow their relationships with JESUS.
URL:https://stjohnstryker.org/event/jam-lyf-4/
LOCATION:St. John Lutheran Church\, T-079\, OH-66\, Stryker\, OH\, 43557\, United States
ATTACH;FMTTYPE=image/jpeg:https://stjohnstryker.org/wp-content/uploads/2025/09/jam-2.jpg
ORGANIZER;CN="St. John Lutheran Church":MAILTO:stjohn6and66@bright.net
END:VEVENT
BEGIN:VEVENT
DTSTART;TZID=America/Detroit:20251015T090000
DTEND;TZID=America/Detroit:20251015T160000
DTSTAMP:20260424T205416
CREATED:20250923T164041Z
LAST-MODIFIED:20250923T164041Z
UID:6723-1760518800-1760544000@stjohnstryker.org
SUMMARY:Sewing
DESCRIPTION:Join the quilting group each Wednesday and bring a sack lunch.
URL:https://stjohnstryker.org/event/sewing/
LOCATION:St. John Lutheran Church\, T-079\, OH-66\, Stryker\, OH\, 43557\, United States
ATTACH;FMTTYPE=image/jpeg:https://stjohnstryker.org/wp-content/uploads/2025/09/sewing2-2.jpg
ORGANIZER;CN="St. John Lutheran Church":MAILTO:stjohn6and66@bright.net
END:VEVENT
BEGIN:VEVENT
DTSTART;TZID=America/Detroit:20251013T190000
DTEND;TZID=America/Detroit:20251013T203000
DTSTAMP:20260424T205416
CREATED:20250923T161759Z
LAST-MODIFIED:20250923T161759Z
UID:6707-1760382000-1760387400@stjohnstryker.org
SUMMARY:Delight Your Marriage
DESCRIPTION:A 12 week event to help strengthen and deepen your marriage.
URL:https://stjohnstryker.org/event/delight-your-marriage-6/
LOCATION:St. John Lutheran Church\, T-079\, OH-66\, Stryker\, OH\, 43557\, United States
ATTACH;FMTTYPE=image/jpeg:https://stjohnstryker.org/wp-content/uploads/2025/09/dym-1.jpg
ORGANIZER;CN="St. John Lutheran Church":MAILTO:stjohn6and66@bright.net
END:VEVENT
BEGIN:VEVENT
DTSTART;VALUE=DATE:20251012
DTEND;VALUE=DATE:20251013
DTSTAMP:20260424T205416
CREATED:20250919T180027Z
LAST-MODIFIED:20250919T180027Z
UID:6702-1760227200-1760313599@stjohnstryker.org
SUMMARY:Sunday Worship and Sunday school
DESCRIPTION:Join us for worship at 8:00 am or 10:30 am Sunday mornings. There is Sunday school classes for 3 year olds through adults that meet from 9:15 am – 10:15 am. Everyone is welcome!
URL:https://stjohnstryker.org/event/sunday-worship-and-sunday-school-3/
LOCATION:St. John Lutheran Church\, T-079\, OH-66\, Stryker\, OH\, 43557\, United States
ATTACH;FMTTYPE=image/jpeg:https://stjohnstryker.org/wp-content/uploads/2025/09/leaves_29071apc1-1.jpg
ORGANIZER;CN="St. John Lutheran Church":MAILTO:stjohn6and66@bright.net
END:VEVENT
BEGIN:VEVENT
DTSTART;TZID=America/Detroit:20251008T180000
DTEND;TZID=America/Detroit:20251008T193000
DTSTAMP:20260424T205416
CREATED:20250919T174352Z
LAST-MODIFIED:20250919T174352Z
UID:6699-1759946400-1759951800@stjohnstryker.org
SUMMARY:JAM & LYF
DESCRIPTION:Youth classes for 3rd – 12th grades to grow their relationships with JESUS.
URL:https://stjohnstryker.org/event/jam-lyf-2/
LOCATION:St. John Lutheran Church\, T-079\, OH-66\, Stryker\, OH\, 43557\, United States
ATTACH;FMTTYPE=image/jpeg:https://stjohnstryker.org/wp-content/uploads/2025/09/wood_26806ac1-1.jpg
ORGANIZER;CN="St. John Lutheran Church":MAILTO:stjohn6and66@bright.net
END:VEVENT
BEGIN:VEVENT
DTSTART;TZID=America/Detroit:20251008T090000
DTEND;TZID=America/Detroit:20251008T160000
DTSTAMP:20260424T205416
CREATED:20250919T174205Z
LAST-MODIFIED:20250919T174205Z
UID:6696-1759914000-1759939200@stjohnstryker.org
SUMMARY:Quilting
DESCRIPTION:Join the quilting group each Wednesday and bring a sack lunch.
URL:https://stjohnstryker.org/event/quilting-18/
LOCATION:St. John Lutheran Church\, T-079\, OH-66\, Stryker\, OH\, 43557\, United States
ATTACH;FMTTYPE=image/jpeg:https://stjohnstryker.org/wp-content/uploads/2025/09/sewing2-1.jpg
ORGANIZER;CN="St. John Lutheran Church":MAILTO:stjohn6and66@bright.net
END:VEVENT
BEGIN:VEVENT
DTSTART;TZID=America/Detroit:20251006T190000
DTEND;TZID=America/Detroit:20251006T203000
DTSTAMP:20260424T205416
CREATED:20250919T174046Z
LAST-MODIFIED:20250919T174046Z
UID:6693-1759777200-1759782600@stjohnstryker.org
SUMMARY:Delight Your Marriage
DESCRIPTION:A 12 week event to help strengthen and deepen your marriage.
URL:https://stjohnstryker.org/event/delight-your-marriage-5/
LOCATION:St. John Lutheran Church\, T-079\, OH-66\, Stryker\, OH\, 43557\, United States
ATTACH;FMTTYPE=image/jpeg:https://stjohnstryker.org/wp-content/uploads/2025/09/dym.jpg
ORGANIZER;CN="St. John Lutheran Church":MAILTO:stjohn6and66@bright.net
END:VEVENT
BEGIN:VEVENT
DTSTART;VALUE=DATE:20251005
DTEND;VALUE=DATE:20251006
DTSTAMP:20260424T205416
CREATED:20250919T173828Z
LAST-MODIFIED:20250919T173828Z
UID:6690-1759622400-1759708799@stjohnstryker.org
SUMMARY:Sunday Worship and Sunday school
DESCRIPTION:Join us for worship at 8:00 am or 10:30 am Sunday mornings. There is Sunday school classes for 3 year olds through adults that meet from 9:15 am- 10 :15 am. Everyone is welcome!
URL:https://stjohnstryker.org/event/sunday-worship-and-sunday-school-2/
LOCATION:St. John Lutheran Church\, T-079\, OH-66\, Stryker\, OH\, 43557\, United States
ATTACH;FMTTYPE=image/jpeg:https://stjohnstryker.org/wp-content/uploads/2025/09/leaves_29071apc1.jpg
ORGANIZER;CN="St. John Lutheran Church":MAILTO:stjohn6and66@bright.net
END:VEVENT
BEGIN:VEVENT
DTSTART;TZID=America/Detroit:20251001T180000
DTEND;TZID=America/Detroit:20251001T193000
DTSTAMP:20260424T205416
CREATED:20250919T173000Z
LAST-MODIFIED:20250919T173000Z
UID:6683-1759341600-1759347000@stjohnstryker.org
SUMMARY:JAM\, LYF\, & Kingdom Kids
DESCRIPTION:Join our youth from 1st-12th grades to grow in their relationship with Jesus.
URL:https://stjohnstryker.org/event/jam-lyf-kingdom-kids/
LOCATION:St. John Lutheran Church\, T-079\, OH-66\, Stryker\, OH\, 43557\, United States
ATTACH;FMTTYPE=image/jpeg:https://stjohnstryker.org/wp-content/uploads/2025/09/wood_26806ac1.jpg
ORGANIZER;CN="St. John Lutheran Church":MAILTO:stjohn6and66@bright.net
END:VEVENT
BEGIN:VEVENT
DTSTART;TZID=America/Detroit:20251001T180000
DTEND;TZID=America/Detroit:20251001T190000
DTSTAMP:20260424T205416
CREATED:20250919T173329Z
LAST-MODIFIED:20250919T173329Z
UID:6687-1759341600-1759345200@stjohnstryker.org
SUMMARY:Soul Sisters
DESCRIPTION:Women’s Bible study for all ages.
URL:https://stjohnstryker.org/event/soul-sisters/
LOCATION:St. John Lutheran Church\, T-079\, OH-66\, Stryker\, OH\, 43557\, United States
ATTACH;FMTTYPE=image/jpeg:https://stjohnstryker.org/wp-content/uploads/2025/09/hands_25849ac1.jpg
ORGANIZER;CN="St. John Lutheran Church":MAILTO:stjohn6and66@bright.net
END:VEVENT
BEGIN:VEVENT
DTSTART;TZID=America/Detroit:20251001T130000
DTEND;TZID=America/Detroit:20251001T140000
DTSTAMP:20260424T205416
CREATED:20250919T171638Z
LAST-MODIFIED:20250919T171638Z
UID:6680-1759323600-1759327200@stjohnstryker.org
SUMMARY:Ladies Aid
DESCRIPTION:
URL:https://stjohnstryker.org/event/ladies-aid-3/
LOCATION:St. John Lutheran Church\, T-079\, OH-66\, Stryker\, OH\, 43557\, United States
ATTACH;FMTTYPE=image/jpeg:https://stjohnstryker.org/wp-content/uploads/2025/09/ladies-aid_29765ac.jpg
ORGANIZER;CN="St. John Lutheran Church":MAILTO:stjohn6and66@bright.net
END:VEVENT
BEGIN:VEVENT
DTSTART;TZID=America/Detroit:20251001T090000
DTEND;TZID=America/Detroit:20251001T160000
DTSTAMP:20260424T205416
CREATED:20250919T171440Z
LAST-MODIFIED:20250919T171440Z
UID:6677-1759309200-1759334400@stjohnstryker.org
SUMMARY:Quilting
DESCRIPTION:Join the quilting group each Wednesday and bring a sack lunch.
URL:https://stjohnstryker.org/event/quilting-17/
LOCATION:St. John Lutheran Church\, T-079\, OH-66\, Stryker\, OH\, 43557\, United States
ATTACH;FMTTYPE=image/jpeg:https://stjohnstryker.org/wp-content/uploads/2025/09/sewing2.jpg
ORGANIZER;CN="St. John Lutheran Church":MAILTO:stjohn6and66@bright.net
END:VEVENT
BEGIN:VEVENT
DTSTART;TZID=America/Detroit:20250929T190000
DTEND;TZID=America/Detroit:20250929T203000
DTSTAMP:20260424T205416
CREATED:20250828T165159Z
LAST-MODIFIED:20250828T165159Z
UID:6671-1759172400-1759177800@stjohnstryker.org
SUMMARY:Delight Your Marriage
DESCRIPTION:A 12 week event to help strengthen and deepen your marriage.
URL:https://stjohnstryker.org/event/delight-your-marriage-4/
LOCATION:St. John Lutheran Church\, T-079\, OH-66\, Stryker\, OH\, 43557\, United States
ATTACH;FMTTYPE=image/jpeg:https://stjohnstryker.org/wp-content/uploads/2025/08/dym-3.jpg
ORGANIZER;CN="St. John Lutheran Church":MAILTO:stjohn6and66@bright.net
END:VEVENT
BEGIN:VEVENT
DTSTART;VALUE=DATE:20250928
DTEND;VALUE=DATE:20250929
DTSTAMP:20260424T205416
CREATED:20250828T164927Z
LAST-MODIFIED:20250828T164927Z
UID:6668-1759017600-1759103999@stjohnstryker.org
SUMMARY:Sunday Worship and Sunday school
DESCRIPTION:Join us for worship at 8:00 am or 10:30 am Sunday mornings. There is Sunday school classes for 3 year olds through adults that meet from  9:15 am -10:15 am. Everyone is welcome.
URL:https://stjohnstryker.org/event/sunday-worship-and-sunday-school/
LOCATION:St. John Lutheran Church\, T-079\, OH-66\, Stryker\, OH\, 43557\, United States
ATTACH;FMTTYPE=image/jpeg:https://stjohnstryker.org/wp-content/uploads/2025/08/img_20250627_110831991_hdr1-4.jpg
ORGANIZER;CN="St. John Lutheran Church":MAILTO:stjohn6and66@bright.net
END:VEVENT
BEGIN:VEVENT
DTSTART;TZID=America/Detroit:20250924T180000
DTEND;TZID=America/Detroit:20250924T193000
DTSTAMP:20260424T205416
CREATED:20250827T183416Z
LAST-MODIFIED:20250827T183416Z
UID:6665-1758736800-1758742200@stjohnstryker.org
SUMMARY:JAM & LYF
DESCRIPTION:Weekday classes for 3rd – 12th grade students
URL:https://stjohnstryker.org/event/jam-lyf/
LOCATION:St. John Lutheran Church\, T-079\, OH-66\, Stryker\, OH\, 43557\, United States
ATTACH;FMTTYPE=image/jpeg:https://stjohnstryker.org/wp-content/uploads/2025/08/youth_29515c13-scaled.jpg
ORGANIZER;CN="St. John Lutheran Church":MAILTO:stjohn6and66@bright.net
END:VEVENT
BEGIN:VEVENT
DTSTART;TZID=America/Detroit:20250924T090000
DTEND;TZID=America/Detroit:20250924T160000
DTSTAMP:20260424T205416
CREATED:20250827T182908Z
LAST-MODIFIED:20250827T182908Z
UID:6662-1758704400-1758729600@stjohnstryker.org
SUMMARY:Quilting
DESCRIPTION:Join the quilting group each Wednesday and bring a sack lunch.
URL:https://stjohnstryker.org/event/quilting-16/
LOCATION:St. John Lutheran Church\, T-079\, OH-66\, Stryker\, OH\, 43557\, United States
ATTACH;FMTTYPE=image/jpeg:https://stjohnstryker.org/wp-content/uploads/2025/08/sewing2-3.jpg
ORGANIZER;CN="St. John Lutheran Church":MAILTO:stjohn6and66@bright.net
END:VEVENT
BEGIN:VEVENT
DTSTART;TZID=America/Detroit:20250922T190000
DTEND;TZID=America/Detroit:20250922T203000
DTSTAMP:20260424T205416
CREATED:20250827T175844Z
LAST-MODIFIED:20250827T175844Z
UID:6659-1758567600-1758573000@stjohnstryker.org
SUMMARY:Delight Your Marriage
DESCRIPTION:A 12 week event to help strengthen & deepen your marriage.
URL:https://stjohnstryker.org/event/delight-your-marriage-3/
LOCATION:St. John Lutheran Church\, T-079\, OH-66\, Stryker\, OH\, 43557\, United States
ATTACH;FMTTYPE=image/jpeg:https://stjohnstryker.org/wp-content/uploads/2025/08/dym-2.jpg
ORGANIZER;CN="St. John Lutheran Church":MAILTO:stjohn6and66@bright.net
END:VEVENT
BEGIN:VEVENT
DTSTART;TZID=America/Detroit:20250917T180000
DTEND;TZID=America/Detroit:20250917T193000
DTSTAMP:20260424T205416
CREATED:20250827T142839Z
LAST-MODIFIED:20250827T165524Z
UID:6650-1758132000-1758137400@stjohnstryker.org
SUMMARY:JAM Kickoff
DESCRIPTION:Everyone is welcome to the SJL Treasure Hunt as we kickoff our Wednesday evening ministries. There will be a cookout meal at the fire pit after the treasure hunt\, so bring your lawn chairs.
URL:https://stjohnstryker.org/event/jam-kickoff/
LOCATION:St. John Lutheran Church\, T-079\, OH-66\, Stryker\, OH\, 43557\, United States
ATTACH;FMTTYPE=image/jpeg:https://stjohnstryker.org/wp-content/uploads/2025/08/family_20606ac.jpg
ORGANIZER;CN="St. John Lutheran Church":MAILTO:stjohn6and66@bright.net
END:VEVENT
BEGIN:VEVENT
DTSTART;TZID=America/Detroit:20250917T090000
DTEND;TZID=America/Detroit:20250917T160000
DTSTAMP:20260424T205416
CREATED:20250827T141547Z
LAST-MODIFIED:20250827T141547Z
UID:6647-1758099600-1758124800@stjohnstryker.org
SUMMARY:Quilting
DESCRIPTION:Join the quilting group each Wednesday and bring a sack lunch.
URL:https://stjohnstryker.org/event/quilting-15/
LOCATION:St. John Lutheran Church\, T-079\, OH-66\, Stryker\, OH\, 43557\, United States
ATTACH;FMTTYPE=image/jpeg:https://stjohnstryker.org/wp-content/uploads/2025/08/sewing2-2.jpg
ORGANIZER;CN="St. John Lutheran Church":MAILTO:stjohn6and66@bright.net
END:VEVENT
BEGIN:VEVENT
DTSTART;TZID=America/Detroit:20250915T190000
DTEND;TZID=America/Detroit:20250915T203000
DTSTAMP:20260424T205416
CREATED:20250827T141440Z
LAST-MODIFIED:20250827T141440Z
UID:6644-1757962800-1757968200@stjohnstryker.org
SUMMARY:Delight Your Marriage
DESCRIPTION:A 12 week event on Monday evenings to help strengthen and deepen your marriage.
URL:https://stjohnstryker.org/event/delight-your-marriage-2/
LOCATION:St. John Lutheran Church\, T-079\, OH-66\, Stryker\, OH\, 43557\, United States
ATTACH;FMTTYPE=image/jpeg:https://stjohnstryker.org/wp-content/uploads/2025/08/dym-1.jpg
ORGANIZER;CN="St. John Lutheran Church":MAILTO:stjohn6and66@bright.net
END:VEVENT
BEGIN:VEVENT
DTSTART;TZID=America/Detroit:20250914T103000
DTEND;TZID=America/Detroit:20250914T233000
DTSTAMP:20260424T205416
CREATED:20250827T140810Z
LAST-MODIFIED:20250827T140810Z
UID:6638-1757845800-1757892600@stjohnstryker.org
SUMMARY:Harvestfest Worship
DESCRIPTION:Come to our annual outdoor Worship Service (bring your lawn chairs) at 10:30 am. Plan to stay after Worship for a delicious meal followed by the LYF Auction Fundraiser and games for the children.
URL:https://stjohnstryker.org/event/harvestfest-worship/
LOCATION:St. John Lutheran Church\, T-079\, OH-66\, Stryker\, OH\, 43557\, United States
ATTACH;FMTTYPE=image/jpeg:https://stjohnstryker.org/wp-content/uploads/2025/08/trees_30334c4.jpg
ORGANIZER;CN="St. John Lutheran Church":MAILTO:stjohn6and66@bright.net
END:VEVENT
BEGIN:VEVENT
DTSTART;TZID=America/Detroit:20250914T091500
DTEND;TZID=America/Detroit:20250914T101500
DTSTAMP:20260424T205416
CREATED:20250827T141258Z
LAST-MODIFIED:20250827T141258Z
UID:6641-1757841300-1757844900@stjohnstryker.org
SUMMARY:Sunday School Launch Day
DESCRIPTION:The Youth Sunday school launches with Harvestfest games.
URL:https://stjohnstryker.org/event/sunday-school-launch-day/
LOCATION:St. John Lutheran Church\, T-079\, OH-66\, Stryker\, OH\, 43557\, United States
ATTACH;FMTTYPE=image/jpeg:https://stjohnstryker.org/wp-content/uploads/2025/08/rally_28888c.jpg
ORGANIZER;CN="St. John Lutheran Church":MAILTO:stjohn6and66@bright.net
END:VEVENT
BEGIN:VEVENT
DTSTART;TZID=America/Detroit:20250911T180000
DTEND;TZID=America/Detroit:20250911T193000
DTSTAMP:20260424T205416
CREATED:20250827T140006Z
LAST-MODIFIED:20250827T140006Z
UID:6634-1757613600-1757619000@stjohnstryker.org
SUMMARY:LWML
DESCRIPTION:The group will be putting baby care kits together to send to World Missions.
URL:https://stjohnstryker.org/event/lwml/
LOCATION:St. John Lutheran Church\, T-079\, OH-66\, Stryker\, OH\, 43557\, United States
ATTACH;FMTTYPE=image/png:https://stjohnstryker.org/wp-content/uploads/2025/08/lwml-logo.png
ORGANIZER;CN="St. John Lutheran Church":MAILTO:stjohn6and66@bright.net
END:VEVENT
END:VCALENDAR